BEGIN:VCALENDAR
VERSION:2.0
PRODID:-//eventon.com NONSGML v1.0//EN
CALSCALE:GREGORIAN
METHOD:PUBLISH
BEGIN:VEVENT
UID:69e9d775c4559
DTSTAMP:20260423T082525Z
DTSTART:20260914
DTEND:20260915
LOCATION:
SUMMARY:Venardos Circus: SEPTEMBER 14 - OCTOBER 4
DESCRIPTION:Venardos Circus is a unique broadway-style circus performance. 
 Theatre lovers and nostalgic circus fans alike will love this show. Tickets
  Required\nhttps://venardoscircus.com/tickets#new_tab
URL:https://venardoscircus.com/tickets#new_tab
END:VEVENT
END:VCALENDAR